BEGIN:VCALENDAR
VERSION:2.0
PRODID:-//wp-events-plugin.com//7.2.3.1//EN
TZID:Europe/Berlin
X-WR-TIMEZONE:Europe/Berlin
BEGIN:VEVENT
UID:424@diag-mav-os.de
DTSTART;TZID=Europe/Berlin:20250424T143000
DTEND;TZID=Europe/Berlin:20250424T173000
DTSTAMP:20241126T111127Z
URL:https://www.diag-mav-os.de/events/fachkreissitzung-kirchengemeinden-un
 d-kindertagesstaetten-4/
SUMMARY:Fachkreissitzung Kirchengemeinden und Kindertagesstätten
DESCRIPTION:Fachkreissitzung Kirchengemeinden und Kindertagesstätten\n\nKa
 th. Kindertagesstätte Arche Noah Bersenbrück
CATEGORIES:Fachkreis Kirchengemeinden und Kindertagesstätten
END:VEVENT
BEGIN:VTIMEZONE
TZID:Europe/Berlin
X-LIC-LOCATION:Europe/Berlin
BEGIN:DAYLIGHT
DTSTART:20250330T030000
TZOFFSETFROM:+0100
TZOFFSETTO:+0200
TZNAME:CEST
END:DAYLIGHT
END:VTIMEZONE
END:VCALENDAR