BEGIN:VCALENDAR
VERSION:2.0
PRODID:-//wp-events-plugin.com//7.2.3.1//EN
TZID:Europe/Berlin
X-WR-TIMEZONE:Europe/Berlin
BEGIN:VEVENT
UID:460@diag-mav-os.de
DTSTART;TZID=Europe/Berlin:20260209T140000
DTEND;TZID=Europe/Berlin:20261210T160000
DTSTAMP:20260116T091439Z
URL:https://www.diag-mav-os.de/events/digitale-sprechstunde/
SUMMARY:Digitale Sprechstunde
DESCRIPTION:Die Sprechstunden finden als Videokonferenz statt. Der Zugangsl
 ink wird kurz vor der Sprechstunde an alle MAV-Mitglieder per Mail versand
 t\, die uns dazu eine Mailadresse zur Verfügung gestellt haben. 
CATEGORIES:DiAG-Termine,Fachkreis Bistum &amp; sonstige
 Einrichtungen,Fachkreis Caritas- und Fachverbände,Fachkreis Heil- und
 sozialpädagogische Einrichtungen / Heime,Fachkreis Kirchengemeinden und
 Kindertagesstätten,Fachkreis Krankenhäuser,Fachkreis Schulen,Fachreis
 Altenheime und Pflegedienste
END:VEVENT
BEGIN:VTIMEZONE
TZID:Europe/Berlin
X-LIC-LOCATION:Europe/Berlin
BEGIN:STANDARD
DTSTART:20251026T020000
TZOFFSETFROM:+0200
TZOFFSETTO:+0100
TZNAME:CET
END:STANDARD
BEGIN:DAYLIGHT
DTSTART:20260329T030000
TZOFFSETFROM:+0100
TZOFFSETTO:+0200
TZNAME:CEST
END:DAYLIGHT
BEGIN:STANDARD
DTSTART:20261025T020000
TZOFFSETFROM:+0200
TZOFFSETTO:+0100
TZNAME:CET
END:STANDARD
END:VTIMEZONE
END:VCALENDAR