BEGIN:VCALENDAR
VERSION:2.0
PRODID:-//wp-events-plugin.com//7.2.3.1//EN
TZID:Europe/Berlin
X-WR-TIMEZONE:Europe/Berlin
BEGIN:VEVENT
UID:399@diag-mav-os.de
DTSTART;TZID=Europe/Berlin:20250904T093000
DTEND;TZID=Europe/Berlin:20250904T163000
DTSTAMP:20240930T114225Z
URL:https://www.diag-mav-os.de/events/delegiertenversammlung-5/
SUMMARY:Delegiertenversammlung
DESCRIPTION:
CATEGORIES:DiAG-Termine
END:VEVENT
BEGIN:VTIMEZONE
TZID:Europe/Berlin
X-LIC-LOCATION:Europe/Berlin
BEGIN:DAYLIGHT
DTSTART:20250330T030000
TZOFFSETFROM:+0100
TZOFFSETTO:+0200
TZNAME:CEST
END:DAYLIGHT
END:VTIMEZONE
END:VCALENDAR